BEGIN:VCALENDAR
VERSION:2.0
PRODID:-//PSV Fürstenfeldbruck - ECPv6.15.20//NONSGML v1.0//EN
CALSCALE:GREGORIAN
METHOD:PUBLISH
X-ORIGINAL-URL:https://xn--psv-frstenfeldbruck-99b.de
X-WR-CALDESC:Veranstaltungen für PSV Fürstenfeldbruck
REFRESH-INTERVAL;VALUE=DURATION:PT1H
X-Robots-Tag:noindex
X-PUBLISHED-TTL:PT1H
BEGIN:VTIMEZONE
TZID:Europe/Berlin
BEGIN:DAYLIGHT
TZOFFSETFROM:+0100
TZOFFSETTO:+0200
TZNAME:CEST
DTSTART:20240331T010000
END:DAYLIGHT
BEGIN:STANDARD
TZOFFSETFROM:+0200
TZOFFSETTO:+0100
TZNAME:CET
DTSTART:20241027T010000
END:STANDARD
BEGIN:DAYLIGHT
TZOFFSETFROM:+0100
TZOFFSETTO:+0200
TZNAME:CEST
DTSTART:20250330T010000
END:DAYLIGHT
BEGIN:STANDARD
TZOFFSETFROM:+0200
TZOFFSETTO:+0100
TZNAME:CET
DTSTART:20251026T010000
END:STANDARD
BEGIN:DAYLIGHT
TZOFFSETFROM:+0100
TZOFFSETTO:+0200
TZNAME:CEST
DTSTART:20260329T010000
END:DAYLIGHT
BEGIN:STANDARD
TZOFFSETFROM:+0200
TZOFFSETTO:+0100
TZNAME:CET
DTSTART:20261025T010000
END:STANDARD
END:VTIMEZONE
BEGIN:VEVENT
DTSTART;TZID=Europe/Berlin:20250504T000000
DTEND;TZID=Europe/Berlin:20250504T235959
DTSTAMP:20260421T190051
CREATED:20250221T212812Z
LAST-MODIFIED:20250221T212813Z
UID:542-1746316800-1746403199@xn--psv-frstenfeldbruck-99b.de
SUMMARY:Frühjahrsprüfung BH
DESCRIPTION:
URL:https://xn--psv-frstenfeldbruck-99b.de/veranstaltung/fruehjahrspruefung-bh
CATEGORIES:BH
END:VEVENT
BEGIN:VEVENT
DTSTART;TZID=Europe/Berlin:20250511T000000
DTEND;TZID=Europe/Berlin:20250511T235959
DTSTAMP:20260421T190051
CREATED:20250221T212842Z
LAST-MODIFIED:20250221T212843Z
UID:544-1746921600-1747007999@xn--psv-frstenfeldbruck-99b.de
SUMMARY:Obedience Turnier
DESCRIPTION:
URL:https://xn--psv-frstenfeldbruck-99b.de/veranstaltung/obedience-turnier
CATEGORIES:Hundesport
END:VEVENT
BEGIN:VEVENT
DTSTART;TZID=Europe/Berlin:20250525T000000
DTEND;TZID=Europe/Berlin:20250525T235959
DTSTAMP:20260421T190051
CREATED:20250221T213057Z
LAST-MODIFIED:20250221T213104Z
UID:546-1748131200-1748217599@xn--psv-frstenfeldbruck-99b.de
SUMMARY:Rally-Obedience Turnier
DESCRIPTION:Herunterladen
URL:https://xn--psv-frstenfeldbruck-99b.de/veranstaltung/rally-obedience-turnier
CATEGORIES:Hundesport
END:VEVENT
END:VCALENDAR