BEGIN:VCALENDAR
VERSION:2.0
PRODID:-//PSV Fürstenfeldbruck - ECPv6.15.20//NONSGML v1.0//EN
CALSCALE:GREGORIAN
METHOD:PUBLISH
X-WR-CALNAME:PSV Fürstenfeldbruck
X-ORIGINAL-URL:https://xn--psv-frstenfeldbruck-99b.de
X-WR-CALDESC:Veranstaltungen für PSV Fürstenfeldbruck
REFRESH-INTERVAL;VALUE=DURATION:PT1H
X-Robots-Tag:noindex
X-PUBLISHED-TTL:PT1H
BEGIN:VTIMEZONE
TZID:Europe/Berlin
BEGIN:DAYLIGHT
TZOFFSETFROM:+0100
TZOFFSETTO:+0200
TZNAME:CEST
DTSTART:20240331T010000
END:DAYLIGHT
BEGIN:STANDARD
TZOFFSETFROM:+0200
TZOFFSETTO:+0100
TZNAME:CET
DTSTART:20241027T010000
END:STANDARD
BEGIN:DAYLIGHT
TZOFFSETFROM:+0100
TZOFFSETTO:+0200
TZNAME:CEST
DTSTART:20250330T010000
END:DAYLIGHT
BEGIN:STANDARD
TZOFFSETFROM:+0200
TZOFFSETTO:+0100
TZNAME:CET
DTSTART:20251026T010000
END:STANDARD
BEGIN:DAYLIGHT
TZOFFSETFROM:+0100
TZOFFSETTO:+0200
TZNAME:CEST
DTSTART:20260329T010000
END:DAYLIGHT
BEGIN:STANDARD
TZOFFSETFROM:+0200
TZOFFSETTO:+0100
TZNAME:CET
DTSTART:20261025T010000
END:STANDARD
END:VTIMEZONE
BEGIN:VEVENT
DTSTART;TZID=Europe/Berlin:20251012T000000
DTEND;TZID=Europe/Berlin:20251012T235959
DTSTAMP:20260421T115445
CREATED:20250221T214128Z
LAST-MODIFIED:20250221T214129Z
UID:569-1760227200-1760313599@xn--psv-frstenfeldbruck-99b.de
SUMMARY:Herbstprüfung BH
DESCRIPTION:
URL:https://xn--psv-frstenfeldbruck-99b.de/veranstaltung/herbstpruefung-bh
CATEGORIES:BH
END:VEVENT
END:VCALENDAR