BEGIN:VCALENDAR
VERSION:2.0
PRODID:-//PSV Fürstenfeldbruck - ECPv6.15.20//NONSGML v1.0//EN
CALSCALE:GREGORIAN
METHOD:PUBLISH
X-WR-CALNAME:PSV Fürstenfeldbruck
X-ORIGINAL-URL:https://xn--psv-frstenfeldbruck-99b.de
X-WR-CALDESC:Veranstaltungen für PSV Fürstenfeldbruck
REFRESH-INTERVAL;VALUE=DURATION:PT1H
X-Robots-Tag:noindex
X-PUBLISHED-TTL:PT1H
BEGIN:VTIMEZONE
TZID:Europe/Berlin
BEGIN:DAYLIGHT
TZOFFSETFROM:+0100
TZOFFSETTO:+0200
TZNAME:CEST
DTSTART:20240331T010000
END:DAYLIGHT
BEGIN:STANDARD
TZOFFSETFROM:+0200
TZOFFSETTO:+0100
TZNAME:CET
DTSTART:20241027T010000
END:STANDARD
BEGIN:DAYLIGHT
TZOFFSETFROM:+0100
TZOFFSETTO:+0200
TZNAME:CEST
DTSTART:20250330T010000
END:DAYLIGHT
BEGIN:STANDARD
TZOFFSETFROM:+0200
TZOFFSETTO:+0100
TZNAME:CET
DTSTART:20251026T010000
END:STANDARD
BEGIN:DAYLIGHT
TZOFFSETFROM:+0100
TZOFFSETTO:+0200
TZNAME:CEST
DTSTART:20260329T010000
END:DAYLIGHT
BEGIN:STANDARD
TZOFFSETFROM:+0200
TZOFFSETTO:+0100
TZNAME:CET
DTSTART:20261025T010000
END:STANDARD
END:VTIMEZONE
BEGIN:VEVENT
DTSTART;TZID=Europe/Berlin:20250809T000000
DTEND;TZID=Europe/Berlin:20250810T235959
DTSTAMP:20260421T151638
CREATED:20250723T150437Z
LAST-MODIFIED:20250723T150439Z
UID:7620-1754697600-1754870399@xn--psv-frstenfeldbruck-99b.de
SUMMARY:Mantrailing Seminar
DESCRIPTION:Unsere Trainer Ella und Andrea von der Rettungshundestaffel Isar gehen gezielt auf jedes einzelne Team ein.Schwerpunkt wird Kreuzungsarbeit sein. \n\n\n\nKosten für beide Tage: 120€ (inkl. Mittagsbrotzeit) \n\n\n\nAnmeldung unter jb.dog@gmx.de
URL:https://xn--psv-frstenfeldbruck-99b.de/veranstaltung/mantrailing-seminar
END:VEVENT
END:VCALENDAR