BEGIN:VCALENDAR
VERSION:2.0
PRODID:-//PSV Fürstenfeldbruck - ECPv6.15.20//NONSGML v1.0//EN
CALSCALE:GREGORIAN
METHOD:PUBLISH
X-WR-CALNAME:PSV Fürstenfeldbruck
X-ORIGINAL-URL:https://xn--psv-frstenfeldbruck-99b.de
X-WR-CALDESC:Veranstaltungen für PSV Fürstenfeldbruck
REFRESH-INTERVAL;VALUE=DURATION:PT1H
X-Robots-Tag:noindex
X-PUBLISHED-TTL:PT1H
BEGIN:VTIMEZONE
TZID:Europe/Berlin
BEGIN:DAYLIGHT
TZOFFSETFROM:+0100
TZOFFSETTO:+0200
TZNAME:CEST
DTSTART:20240331T010000
END:DAYLIGHT
BEGIN:STANDARD
TZOFFSETFROM:+0200
TZOFFSETTO:+0100
TZNAME:CET
DTSTART:20241027T010000
END:STANDARD
BEGIN:DAYLIGHT
TZOFFSETFROM:+0100
TZOFFSETTO:+0200
TZNAME:CEST
DTSTART:20250330T010000
END:DAYLIGHT
BEGIN:STANDARD
TZOFFSETFROM:+0200
TZOFFSETTO:+0100
TZNAME:CET
DTSTART:20251026T010000
END:STANDARD
BEGIN:DAYLIGHT
TZOFFSETFROM:+0100
TZOFFSETTO:+0200
TZNAME:CEST
DTSTART:20260329T010000
END:DAYLIGHT
BEGIN:STANDARD
TZOFFSETFROM:+0200
TZOFFSETTO:+0100
TZNAME:CET
DTSTART:20261025T010000
END:STANDARD
END:VTIMEZONE
BEGIN:VEVENT
DTSTART;TZID=Europe/Berlin:20250607T000000
DTEND;TZID=Europe/Berlin:20250608T235959
DTSTAMP:20260421T185832
CREATED:20250221T213236Z
LAST-MODIFIED:20250530T133827Z
UID:549-1749254400-1749427199@xn--psv-frstenfeldbruck-99b.de
SUMMARY:Bayerische Meisterschaft Obedience
DESCRIPTION:Wir freuen uns euch zur Bayerischen Meisterschaft Obedience am 07./08. Juni 2025 begrüßen zu dürfen! \n\n\n\n\n\n\n\nInformation\n\n\n\nZeitpläne\, Starterlisten etc. werden auf der Homepage des BLV veröffentlicht \n\n\n\n\n\n\n\nÜbernachtungsmöglichkeiten\n\n\n\nCamping\n\n\n\nCamping ist in begrenztem Umfang möglich\, hierzu bitte Voranmeldung bei Christian Barschow (Mail: info@psv-ffb.de)Gebühren: 5€ pro Tag (+5€ Strom pro Tag)Anreise ab Freitagnachmittag möglich \n\n\n\n\n\n\n\nWeitere Übernachtungsmöglichkeiten\n\n\n\nEs folgt eine Liste hundefreundlicher Hotels in der Umgebung. Der PSV FFB ist in keinem Vertragsverhältnis mit den gelisteten Gastgebern und kann dementsprechend keine Kontingente oder Rabatte anbieten. Auch eine Verfügbarkeit und tatsächliche Aufnahmemöglichkeit der Hunde stellt der Verein nicht sicher. \n\n\n\nHotel NameAdresseTelefonnummerLinkMailAMPER ART Hotel & Boardinghouse Kurt-Huber-Ring 782256 Fürstenfeldbruck  +49 8141 6251228www.amper-art-hotel.de info@amper-art-hotel.de Hotel Zum UnterwirtKlosteranger 782256 Puch (Fürstenfeldbruck)  +49 8141 3234920www.hotelzumunterwirt.dehotel-zum-unterwirt@t-online.deAbasto Hotel Gerlinden / MaisachMax-Rappenglitz-Ring 1-382216 Gernlinden+49 89 4132560200www.abasto-maisach.demaisach@abasto-hotel.deAbasto Hotel EichenauBahnhofstr.1182223 Eichenau +49 89 4132560500www.abasto-eichenau.deeichenau@abasto-hotel.deHotel am Kronepark Kemeterstr. 5582140 Olching Neu-Esting +49 8142 2920 www.hotel-kronepark.de info@hotel-kronepark.de \n\n\n\n\n\n\n\nTierwohlbeauftragter\n\n\n\n\n\n\n\n\nImmo Looschen08144 / 98443+49 160 11 45 342immo.looschen@psv-ffb.de \n\n\n\n\n\n\n\n\nTierärztlicher Notdienst\n\n\n\nFür den Landkreis Fürstenfeldbruck an diesem Wochenende:Tierarztpraxis Dr. EringerDr. med. vet. Ellen EringerWaldstr. 2b82110 GermeringTel: (089) 81 89 26 83
URL:https://xn--psv-frstenfeldbruck-99b.de/veranstaltung/bayerische-meisterschaft-obedience
CATEGORIES:Hundesport
END:VEVENT
END:VCALENDAR